BEGIN:VCALENDAR
VERSION:2.0
PRODID:-//Only In Onslow - ECPv6.15.20//NONSGML v1.0//EN
CALSCALE:GREGORIAN
METHOD:PUBLISH
X-ORIGINAL-URL:https://www.onlyinonslow.com
X-WR-CALDESC:Events for Only In Onslow
REFRESH-INTERVAL;VALUE=DURATION:PT1H
X-Robots-Tag:noindex
X-PUBLISHED-TTL:PT1H
BEGIN:VTIMEZONE
TZID:America/New_York
BEGIN:DAYLIGHT
TZOFFSETFROM:-0500
TZOFFSETTO:-0400
TZNAME:EDT
DTSTART:20240310T070000
END:DAYLIGHT
BEGIN:STANDARD
TZOFFSETFROM:-0400
TZOFFSETTO:-0500
TZNAME:EST
DTSTART:20241103T060000
END:STANDARD
BEGIN:DAYLIGHT
TZOFFSETFROM:-0500
TZOFFSETTO:-0400
TZNAME:EDT
DTSTART:20250309T070000
END:DAYLIGHT
BEGIN:STANDARD
TZOFFSETFROM:-0400
TZOFFSETTO:-0500
TZNAME:EST
DTSTART:20251102T060000
END:STANDARD
BEGIN:DAYLIGHT
TZOFFSETFROM:-0500
TZOFFSETTO:-0400
TZNAME:EDT
DTSTART:20260308T070000
END:DAYLIGHT
BEGIN:STANDARD
TZOFFSETFROM:-0400
TZOFFSETTO:-0500
TZNAME:EST
DTSTART:20261101T060000
END:STANDARD
BEGIN:DAYLIGHT
TZOFFSETFROM:-0500
TZOFFSETTO:-0400
TZNAME:EDT
DTSTART:20270314T070000
END:DAYLIGHT
BEGIN:STANDARD
TZOFFSETFROM:-0400
TZOFFSETTO:-0500
TZNAME:EST
DTSTART:20271107T060000
END:STANDARD
END:VTIMEZONE
BEGIN:VEVENT
DTSTART;TZID=America/New_York:20260411T083000
DTEND;TZID=America/New_York:20260411T120000
DTSTAMP:20260420T051737
CREATED:20251222T195122Z
LAST-MODIFIED:20260113T203928Z
UID:7674-1775896200-1775908800@www.onlyinonslow.com
SUMMARY:Sledgehammer Beach Run
DESCRIPTION:Experience the beauty of North Topsail Beach while testing your endurance in the Sledgehammer Beach Run—featuring a Half Marathon\, 10K\, and 5K. This unique race takes place right on the sand\, offering both breathtaking views and a rewarding challenge. \nHosted by the Jacksonville-Onslow Sports Commission\, the event is held in memory of Dr. E.B. Sledge\, a Marine and World War II veteran whose legacy continues to inspire. The mission of the Sledgehammer Beach Run is simple yet powerful: to honor the memory of Sledgehammer and all combat veterans. \nDr. Sledge\, a lifelong Marine\, spent his postwar years reflecting on the sacrifices and experiences of those who served alongside him. In his honor\, a portion of race proceeds supports Semper Fi & America’s Fund\, which provides assistance to wounded\, ill\, and injured service members and their families. \nAdd this bucket-list race to your calendar and run with purpose as you honor heroes\, support a worthy cause\, and take on the challenge of the Sledgehammer Beach Run. \nCourse Information \nHalf marathon\, 10k & 5k course are all on the beach \n**Half marathon cut off time is 4 hours. Anyone left on the course after the fourth hour will be picked up by a staff member and will be disqualified for awards.
URL:https://www.onlyinonslow.com/event/sledgehammer/
LOCATION:Onslow County Beach Access #2\, 2950 Island Dr\, North Topsail Beach\, 28460\, United States
CATEGORIES:Jacksonville
ATTACH;FMTTYPE=image/png:https://www.onlyinonslow.com/wp-content/uploads/Sledgehammer-logo.png
ORGANIZER;CN="Jacksonville Onslow Sports Commission":MAILTO:events@josc-nc.com
END:VEVENT
BEGIN:VEVENT
DTSTART;TZID=America/New_York:20260411T073000
DTEND;TZID=America/New_York:20260411T170000
DTSTAMP:20260420T051737
CREATED:20260306T150324Z
LAST-MODIFIED:20260306T150324Z
UID:7840-1775892600-1775926800@www.onlyinonslow.com
SUMMARY:Irreverent Warriors Silkies Hike
DESCRIPTION:Hikes are a series of therapeutic events that are designed to PREVENT veteran suicide by bringing veterans together using humor and camaraderie to improve mental health. In order to create and maintain this environment of support and understanding\, civilians are not allowed to hike – no strollers\, baby backpacks\, or minor volunteers.\n\nTHIS IS NOT AN ATHLETIC EVENT: The hikes are between 6-12 miles\, paced at 2-3 miles per hour. There are frequent stops for fellowship and food/beverages\, and rucks\, weight\, and boots are optional.\n\nWHAT TO BRING\nSILKIES AND SHIRTS – Silkies are the OFFICIAL HIKE UNIFORM (although not required) and the MINIMUM lower body coverage\, and shirts are required at many of our stops.\nSUNBLOCK AND HEADGEAR\nPHOTO ID\nCASH\nHYDRATION\nEYE PRO\nFLAGS – Patriotic\, unit\, branch\,(NO political or religious flags)\nEXTRA SOCKS\nTRANSPORTATION – plan for a ride if you plan to drink
URL:https://www.onlyinonslow.com/event/irreverent-warriors-silkies-hike/
LOCATION:Guild Mortage\, 1014 Henderson Drive\, Jacksonville\, NC\, 28540\, United States
CATEGORIES:Jacksonville
END:VEVENT
BEGIN:VEVENT
DTSTART;TZID=America/New_York:20260321T080000
DTEND;TZID=America/New_York:20260321T120000
DTSTAMP:20260420T051737
CREATED:20260306T145134Z
LAST-MODIFIED:20260306T145134Z
UID:9299-1774080000-1774094400@www.onlyinonslow.com
SUMMARY:Frogman 3D Bowhunters Challenge & 5k Trail
DESCRIPTION:Trail Run- A wooded trail run through the property known as the “400-acres.” The trail is predominantly flat and should be fun for all. This is a course created especially for Frogman.  Medals awarded to the top-overall male and female\, top-overall male and female masters\, and first place in each age division. Everyone crossing the finish line receives a finisher medal. Note: our insurance doesn’t allow dogs at our running events unless they’re a service dog. \nBowhunters Challenge- The Frogman Bowhunter Challenge is not your average 3D shoot it’s a full-day archery adventure built to challenge and inspire bowhunters of every skill level. Modeled after events like Total Archery Challenge\, this course features rugged terrain\, lifelike 3D targets\, and shot opportunities that mimic real-world hunting scenarios from odd angles and long distances to tight gaps and tricky setups. \n  \nFrogman was created by The Campbell Family in 2012 to honor the wish of their beloved SOC (SEAL) Christopher Campbell. Chris lost his life during Operation Enduring Freedom in Afghanistan when a CH-47 Chinook helicopter\, call sign Extortion 17\, in which he and 30 others Americans were riding\, was shot down on August 6\, 2011.  The event honors his final wish to support combat wounded veterans\, his love for hunting\, especially bow hunting\, and the outdoors.
URL:https://www.onlyinonslow.com/event/frogman-3d-bowhunters-challenge-5k-trail/
LOCATION:Jacksonville Uptown\, 7130 Western Blvd\, Jacksonville\, NC\, 28540\, United States
CATEGORIES:Jacksonville
ATTACH;FMTTYPE=image/jpeg:https://www.onlyinonslow.com/wp-content/uploads/Frogman-Challenge-Logo.jpg
ORGANIZER;CN="Frogman Challenge":MAILTO:frogmanbowhunterschallenge@yahoo.com
END:VEVENT
BEGIN:VEVENT
DTSTART;TZID=America/New_York:20251122T090000
DTEND;TZID=America/New_York:20251122T113000
DTSTAMP:20260420T051737
CREATED:20240924T155930Z
LAST-MODIFIED:20250122T215531Z
UID:8170-1763802000-1763811000@www.onlyinonslow.com
SUMMARY:Jacksonville NC Christmas Holiday Parade
DESCRIPTION:Parade starts at 9:45am! Road closes down at 9:00am\, please find your seats before this time! \nJacksonville’s beloved Christmas Parade is back for its 71st year! On Saturday\, November 22nd\, experience the joy of a community tradition as we light up Western Blvd with festive cheer. Be part of the 15\,000-strong crowd that gathers to kick off the holiday season. From Coastal Carolina Community College to Brynn Marr Shopping Center\, let’s celebrate 70 years of togetherness and holiday spirit.\n\nThis event is broadcasted live on WITN Channel 7 and it will be rebroadcast again throughout the holiday season.
URL:https://www.onlyinonslow.com/event/2024-jacksonville-nc-christmas-holiday-parade/
LOCATION:Western Blvd.\, 375 Western Blvd.\, Jacksonville\, NC\, 28546\, United States
CATEGORIES:Jacksonville
ATTACH;FMTTYPE=image/jpeg:https://www.onlyinonslow.com/wp-content/uploads/Christmas-Parade-e1737582920214.jpg
END:VEVENT
BEGIN:VEVENT
DTSTART;TZID=America/New_York:20251108T100000
DTEND;TZID=America/New_York:20251108T120000
DTSTAMP:20260420T051737
CREATED:20221014T181206Z
LAST-MODIFIED:20250923T131155Z
UID:7141-1762596000-1762603200@www.onlyinonslow.com
SUMMARY:Veterans Day Parade
DESCRIPTION:It is time for the 28th Annual Veterans Day Parade\, hosted by Rolling Thunder®\, Inc.\, Chapter NC5. The parade will be held on November 8\, 2025. \nThe purpose of the Veterans Day Parade is for the citizens of Onslow County to have the opportunity to pay a much deserved tribute to the veterans who have served and are currently serving in our Armed Forces to keep our nation free. For veterans\, it is a time to accept the accolades of a grateful community and know their sacrifices and service are appreciated.
URL:https://www.onlyinonslow.com/event/veterans-day-parade/
LOCATION:Western Blvd.\, 375 Western Blvd.\, Jacksonville\, NC\, 28546\, United States
CATEGORIES:Jacksonville
ATTACH;FMTTYPE=image/jpeg:https://www.onlyinonslow.com/wp-content/uploads/Document-2.jpg
END:VEVENT
BEGIN:VEVENT
DTSTART;TZID=America/New_York:20251101T120000
DTEND;TZID=America/New_York:20251102T170000
DTSTAMP:20260420T051737
CREATED:20210719T143753Z
LAST-MODIFIED:20250923T130940Z
UID:5813-1761998400-1762102800@www.onlyinonslow.com
SUMMARY:Onslow Veterans Pow Wow
DESCRIPTION:Celebrating current and past servicemen and women through Native American culture. \n\n\n\n\n\nThe Onslow Veterans Pow Wow serves to provide a cultural experience for residents of Onslow County\, and adjoining communities to observe\, participate\, and learn from a broad representation of Native American tribes. \n\n\n\n\nFacebook Event Page URL: Onslow Veterans Pow Wow
URL:https://www.onlyinonslow.com/event/onslow-veterans-pow-wow/
LOCATION:American Legion\, 146 Broadhurst Road\, Jacksonville\, NC\, 28540\, United States
CATEGORIES:Jacksonville
ATTACH;FMTTYPE=image/webp:https://www.onlyinonslow.com/wp-content/uploads/Onslow-Veterans-Pow-Wow.webp
ORGANIZER;CN="Onslow Veterans Pow Wow":MAILTO:onslowpowwow@gmail.com
END:VEVENT
BEGIN:VEVENT
DTSTART;VALUE=DATE:20251101
DTEND;VALUE=DATE:20251112
DTSTAMP:20260420T051737
CREATED:20240627T191852Z
LAST-MODIFIED:20250923T131303Z
UID:7995-1761955200-1762905599@www.onlyinonslow.com
SUMMARY:Veterans Tribute Weekend
DESCRIPTION:Get ready for not just one – but two weekends of fun celebrating and honoring our veterans! Veterans Tribute NC returns with a full list of activities\, including the annual Veterans Day Parade\, a family fun event at the Jacksonville Commons\, tours of the Lejeune Memorial Gardens\, and the Veterans Walk of Honor. Make plans now to join us in Jacksonville\, NC. \nBe sure to check out VisitJacksonvilleNC.com for the full list of events over two weekend!
URL:https://www.onlyinonslow.com/event/veterans-tribute-weekend/
LOCATION:NC
CATEGORIES:Jacksonville
ATTACH;FMTTYPE=image/png:https://www.onlyinonslow.com/wp-content/uploads/Veteran-Tribute-Weekend-e1719515964427.png
ORGANIZER;CN="Visit Jacksonville":MAILTO:tourism@jacksonvillenc.gov
END:VEVENT
BEGIN:VEVENT
DTSTART;TZID=America/New_York:20250913T070000
DTEND;TZID=America/New_York:20250913T120000
DTSTAMP:20260420T051737
CREATED:20191217T215510Z
LAST-MODIFIED:20250707T164802Z
UID:2971-1757746800-1757764800@www.onlyinonslow.com
SUMMARY:Marine Corps Half Marathon
DESCRIPTION:Experience the storied legacy of the Marine Corps at the Marine Corps Half Marathon presented by FirstLight Home Care. This year’s race is a landmark commemoration of the Marine Corps’ 250-year legacy\, honoring the unwavering traditions of excellence and sacrifice that have distinguished the Corps since its founding in 1775. Don’t miss out on this opportunity to honor tradition.\nThis race is open to the public. If you do not have a DoD ID card\, all runners and passengers 18 and up are required to submit for base access AFTER race registration has been completed.\n\nEvent Page URL: MarineCorpsHalfMarathon
URL:https://www.onlyinonslow.com/event/marine-corps-half-marathon/
LOCATION:Marine Corps Base Camp Lejeune\, McHugh Blvd 28547\, Camp Lejeune\, NC\, 28547\, United States
CATEGORIES:Jacksonville
ATTACH;FMTTYPE=image/jpeg:https://www.onlyinonslow.com/wp-content/uploads/Marine-Corps-Half-Marathon-Logo.jpg
END:VEVENT
BEGIN:VEVENT
DTSTART;TZID=America/New_York:20250822T080000
DTEND;TZID=America/New_York:20250822T100000
DTSTAMP:20260420T051737
CREATED:20240627T191150Z
LAST-MODIFIED:20250707T165058Z
UID:7993-1755849600-1755856800@www.onlyinonslow.com
SUMMARY:Montford Point Marine Weekend
DESCRIPTION:National Montford Point Marine Association\, Inc Presents:Montford Point Marine Day Ceremony & Congressional Gold Medal Presentation.\nFriday\, August 22Lejeune Memorial GardensCeremony begins at 8am.Base access not required for ceremony.10a Museum self-guided tour after ceremony. Base access pass required to visit museum.\n\nCamp Lejeune Chapter 10 Presents:Friday\, August 229p-2a Friday Night Party. Adm: $10.00. Age 25 and up\nSaturday\, August 23 –Montford Point Memorial Motorcycle RideRegistration 9amKick-stand Up 11am$20 Ride $10 PassengerRide will begin & end at The PointPre-register opening soon.\nLunch provided after ride. Free w/band $10 w/o band
URL:https://www.onlyinonslow.com/event/montford-point-marine-celebration/
LOCATION:Lejeune Memorial Gardens\, 109 Montford Landing Road\, Jacksonville\, NC\, 28540\, United States
CATEGORIES:Jacksonville
ATTACH;FMTTYPE=image/jpeg:https://www.onlyinonslow.com/wp-content/uploads/Montford-Point-Marine-Celebration-scaled.jpg
END:VEVENT
BEGIN:VEVENT
DTSTART;TZID=America/New_York:20250726T110000
DTEND;TZID=America/New_York:20250728T180000
DTSTAMP:20260420T051737
CREATED:20240701T200245Z
LAST-MODIFIED:20250707T165836Z
UID:8025-1753527600-1753725600@www.onlyinonslow.com
SUMMARY:Summer Latin Fiesta
DESCRIPTION:Get ready to enjoy Onslow’s largest celebration of Latin\, Hispanic\, and Caribbean cultures. Join us at our 3rd Annual Summer Latin Fiesta! Don’t miss out on an unforgettable day filled with live music\, dazzling performances\, and a parade of flags where you can represent your country and culture. Enjoy delicious bites from diverse food trucks\, explore unique vendors\, and check out an exciting car show. There’s something for everyone\, including fun activities for the kids!\n\nPrepárate para disfrutar de la mayor celebración de las culturas latina\, hispana y caribeña en Onslow. ¡Únete a nosotros en nuestra 3ª Fiesta Latina de Verano! No te pierdas un día inolvidable lleno de música en vivo\, actuaciones deslumbrantes y un desfile de banderas donde podrás representar a tu país y tu cultura. Disfruta de deliciosos bocados de camiones de comida diversos\, explora vendedores únicos y descubre un emocionante show de carros. ¡Hay algo para todos\, incluyendo actividades divertidas para los niños!\n\n\n\n\n\n 
URL:https://www.onlyinonslow.com/event/summer-latin-fiesta/
LOCATION:Jacksonville Commons\, 100 Recreation Lane\, Jacksonville\, NC\, 28546\, United States
CATEGORIES:Jacksonville
ATTACH;FMTTYPE=image/jpeg:https://www.onlyinonslow.com/wp-content/uploads/Summer-Latin-Fiesta.jpg
ORGANIZER;CN="Onslow Hispanic Latino Association":MAILTO:ohlaofonslow@gmail.com
END:VEVENT
END:VCALENDAR